BEGIN:VCALENDAR
VERSION:2.0
PRODID:-//IWFFA - ECPv6.15.11//NONSGML v1.0//EN
CALSCALE:GREGORIAN
METHOD:PUBLISH
X-ORIGINAL-URL:https://iwffa.com
X-WR-CALDESC:Events for IWFFA
REFRESH-INTERVAL;VALUE=DURATION:PT1H
X-Robots-Tag:noindex
X-PUBLISHED-TTL:PT1H
BEGIN:VTIMEZONE
TZID:UTC
BEGIN:STANDARD
TZOFFSETFROM:+0000
TZOFFSETTO:+0000
TZNAME:UTC
DTSTART:20200101T000000
END:STANDARD
END:VTIMEZONE
BEGIN:VEVENT
DTSTART;VALUE=DATE:20210212
DTEND;VALUE=DATE:20210222
DTSTAMP:20260419T120830
CREATED:20210708T212736Z
LAST-MODIFIED:20210708T212736Z
UID:437-1613088000-1613951999@iwffa.com
SUMMARY:1st IWFFA  Tournament - Pakistan
DESCRIPTION:Hosted by\nPakistan Women’s Flag Football Federation\n8 on 8 \nTournament Games: February 20-21\, 2021\nClinics: February 12-19\, 2021 \n(Postponed due to COVID)
URL:https://iwffa.com/event/1st-iwffa-quette-pakistan-womens-flag-football-tournament/
CATEGORIES:2021,PAKISTAN
ATTACH;FMTTYPE=:
END:VEVENT
END:VCALENDAR